BEGIN:VCALENDAR
VERSION:2.0
PRODID:-//www.conscious.co.uk//Conscious CMS.iCal 1.0//EN
BEGIN:VEVENT
DESCRIPTION:  	  		  			                               			  			   			  			   			  		  	        	  		  			The successful law firm of 2025 will emerge from the choices made by law firm leaders today. In order to create competitive advantage and deliver superior financial returns, law firms need to understand and adapt to the changing ecosystem in which they now live, as well as forecasting what that ecosystem will look like 10 or more years down the road; long term vision and strategy have therefore never been more important for law firms.  			  			In association with Coventry University and Warwickshire JLD, Brethertons LLP invite you to join us as Mitch Kowalski, examines the challenges law firms face now and in the future.  Mitch will then use this perspective to suggest a provocative model for the successful law firm of 2025.  			  			This event is essential for all lawyers. Those in management roles can understand what the future holds for their businesses and young aspiring lawyers can take a glimpse at what the future holds for their careers.  			  			Date- Tuesday 11 April  			Time- 6.30pm-8.30pm  			Venue- Coventry University, Engineering and Computing Building, Coventry, Warks, CV1 2JH  			Cost- FREE    			   		  	  	  		  			Sponsors  			It is with thanks to the generosity of our sponsors, Conscious and Peppermint Technology, that we are able to hold this event free of charge.  			  				  					  						  						  						   					  				  			    			In addition the first 50 delegates arriving on the evening will receive a free copy of Mitchell's critically-acclaimed book, Avoiding Extinction- Reimagining Legal Services for the 21st Century.  		  	        	  		  			  			  			  			  			  			   			Mitch Kowalski  			  			Mitch Kowalski is the Gowling WLG Visiting Professor in Legal Innovation at the University of Calgary Law School, the Legal Innovation Columnist The National Post, and Principal Consultant at Cross Pollen Advisory where he advises in-house legal departments and law firms on the redesign of legal service delivery.  			He is also the author of the critically-acclaimed book, Avoiding Extinction- Reimagining Legal Services for the 21st Century. His new book, The Great Legal Reformation- Notes from the Field will be published in early 2017.  Follow him on Twitter @mekowalski or visit his website www.kowalski.ca  		  	    
DTEND:20170411T203000
DTSTAMP:20221201T151001
DTSTART:20170411T183000
LOCATION:Engineering and Computing Building\,Coventry University Law School\,CV1 2JH
SEQUENCE:0
SUMMARY:Mitch Kowalski - The Great Legal Reformation 
UID:event6440@www.brethertons.co.uk
URL:http://www.brethertons.co.uk/site/events/eventlisting/event614_6440
END:VEVENT
END:VCALENDAR
