BEGIN:VCALENDAR
VERSION:2.0
PRODID:-//www.conscious.co.uk//Conscious CMS.iCal 1.0//EN
BEGIN:VEVENT
DESCRIPTION:Speakers- David Hodge and Manisha ChauhanDoes your business outsource services, or deliver outsourced services?    Are you on the acquisition trail or often tendering for new work?    Let our Employment Team debunk some of the myths surrounding the complex Transfer of Undertakings (Protection of Employment) Regulations 2006 (&ldquo;TUPE&rdquo;) and simplify some of the key provisions that you need to understand.This webinar will cover matters including-    	When TUPE applies  	What is a Service Provision Change?  	What are the consequences of TUPE?  	Automatic transfer principle  	Post-transfer variations  	Information and Consultation process  	Recent cases      If you would like to take part in this webinar, please book on using the online registration form. 
DTEND:20150723T143000
DTSTAMP:20221201T150526
DTSTART:20150723T133000
LOCATION:
SEQUENCE:0
SUMMARY:TUPE Webinar
UID:event5036@www.brethertons.co.uk
URL:http://www.brethertons.co.uk/site/events/eventlisting/event614_5036
END:VEVENT
END:VCALENDAR
